BEGIN:VCALENDAR
VERSION:2.0
PRODID:-//eventon.com NONSGML v1.0//EN
CALSCALE:GREGORIAN
METHOD:PUBLISH
BEGIN:VEVENT
UID:69e518807d49c
DTSTAMP:20260419T180136Z
DTSTART:20260328T150000Z
DTEND:20260328T160000Z
LOCATION:Amersfoortse Zwaan
SUMMARY:Maandelijkse viering in de Zwaan
DESCRIPTION:Het verhaal van het lijden en de opstanding van Jezus wordt in 
 de Bijbel vier keer verteld: elk van de vier evangeliën vertelt erover. In
  die verschillende verhalen komen in totaal  zeven uitspraken voor die Jez
 us deed aan het kruis. Zo vroeg hij bijvoorbeeld om vergeving voor de mense
 n die[..]\nhttps://stadsdominee.nl/events/maandelijkse-viering-in-de-zwaan/
URL:https://stadsdominee.nl/events/maandelijkse-viering-in-de-zwaan/
END:VEVENT
END:VCALENDAR