BEGIN:VCALENDAR
VERSION:2.0
PRODID:-//eventon.com NONSGML v1.0//EN
CALSCALE:GREGORIAN
METHOD:PUBLISH
BEGIN:VEVENT
UID:69e503b72efb3
DTSTAMP:20260419T163255Z
DTSTART:20260418T140000Z
DTEND:20260418T150000Z
LOCATION:Amersfoortse Zwaan
SUMMARY:Muziek na de markt met Tintabossa
DESCRIPTION:Elsa Kal (zang) en Erik Uhlenbusch (gitaar) treden op met versc
 hillende muziek en liederen vanuit de Braziliaanse Bosso Nova\,  klassieke 
 muziek\,  pop en chansons.\nhttps://stadsdominee.nl/events/muziek-na-de-mar
 kt-met-tintabossa/
URL:https://stadsdominee.nl/events/muziek-na-de-markt-met-tintabossa/
END:VEVENT
END:VCALENDAR