BEGIN:VCALENDAR
VERSION:2.0
PRODID:-//eventon.com NONSGML v1.0//EN
CALSCALE:GREGORIAN
METHOD:PUBLISH
BEGIN:VEVENT
UID:69e4ee9e21938
DTSTAMP:20260419T150254Z
DTSTART:20260411T140000Z
DTEND:20260411T153000Z
LOCATION:Amersfoortse Zwaan
SUMMARY:ZinopZaterdag - Kunst
DESCRIPTION:Zin in Kunst in het kader vanKunstpalet033 (10-12 april) in ges
 prek over de expositie met kunstenaars Gerlina Pols en Margreet Euverman\nh
 ttps://stadsdominee.nl/events/zinopzaterdag-kunst/
URL:https://stadsdominee.nl/events/zinopzaterdag-kunst/
END:VEVENT
END:VCALENDAR