BEGIN:VCALENDAR
VERSION:2.0
PRODID:-//eventon.com NONSGML v1.0//EN
CALSCALE:GREGORIAN
METHOD:PUBLISH
BEGIN:VEVENT
UID:69e4c3d2e7541
DTSTAMP:20260419T120018Z
DTSTART:20260404T130000Z
DTEND:20260404T210000Z
LOCATION:Binnenstad Amersfoort Koppelpoort\,  Kleine Spui
SUMMARY:Stille Zaterdag Graceland Paasfeest Licht op je gezicht
DESCRIPTION:🎇 Graceland PaasFeest – licht op je gezicht🗓️ Zaterda
 g 4 april 2026 van 15:00 tot 23:00 uur📍 Johanneskerk\,  Westsingel 30 A
 mersfoort💫 Pasen op z’n Gracelands: fris\,  verdiepend en altijd een t
 ikje anders. Tijdens het Graceland PaasFeest ga je mee op reis. Een reis va
 n donker naar licht\,  waar je op verschillende[..]\nhttps://stadsdominee.n
 l/events/stille-zaterdag-graceland-paasfeest-licht-op-je-gezicht/
URL:https://stadsdominee.nl/events/stille-zaterdag-graceland-paasfeest-licht-op-je-gezicht/
END:VEVENT
END:VCALENDAR