BEGIN:VCALENDAR
VERSION:2.0
PRODID:-//eventon.com NONSGML v1.0//EN
CALSCALE:GREGORIAN
METHOD:PUBLISH
BEGIN:VEVENT
UID:69e4d91ad5302
DTSTAMP:20260419T133106Z
DTSTART:20260405T083000Z
DTEND:20260405T093000Z
LOCATION:Amersfoortse Zwaan
SUMMARY:Paasochtendviering
DESCRIPTION:Paasochtend viering met Cantate ‘Ich weiß daß mein Erlöser
  lebt‘ (G.Ph. Telemann) door Dierick Aartsen\,  tenor Ingrid Lubbers\,  v
 iool Marjan Prins\,  fagot en Gadze Heeres\,  cello onder leiding van canto
 r-organist Cees-Willem van Vliet\,  voorganger stadsdominee Marleen Kool. P
 aasochtend 5 april om 10.30 uur is er een feestelijke viering. Ieder wordt[
 ..]\nhttps://stadsdominee.nl/events/paasochtendviering/
URL:https://stadsdominee.nl/events/paasochtendviering/
END:VEVENT
END:VCALENDAR