BEGIN:VCALENDAR
VERSION:2.0
PRODID:-//eventon.com NONSGML v1.0//EN
CALSCALE:GREGORIAN
METHOD:PUBLISH
BEGIN:VEVENT
UID:69e73554445ad
DTSTAMP:20260421T082908Z
DTSTART:20241225T093000Z
DTEND:20241225T110000Z
LOCATION:
SUMMARY:Kerstmis in de Zwaan
DESCRIPTION:Op Kerstmorgen vieren we het Hoogfeest van Kerstmis. Iedereen i
 s welkom om te zingen\,  te bidden\,  te delen in de nabijheid van Christus
  in woord\,  in Brood en Wijn. Komt\,  verwondert u hier\,  lieve mensen!&n
 bsp;We horen het Kerstevangelie volgens Johannes\,  over het licht dat schi
 jnt in de wereld. Cees-Willem van[..]\nhttps://stadsdominee.nl/events/kerst
 mis-in-de-zwaan/
URL:https://stadsdominee.nl/events/kerstmis-in-de-zwaan/
END:VEVENT
END:VCALENDAR