BEGIN:VCALENDAR
VERSION:2.0
PRODID:-//eventon.com NONSGML v1.0//EN
CALSCALE:GREGORIAN
METHOD:PUBLISH
BEGIN:VEVENT
UID:69e754fab8779
DTSTAMP:20260421T104410Z
DTSTART:20240519T083000Z
DTEND:20240519T094500Z
LOCATION:Amersfoortse Zwaan
SUMMARY:Pinksteren
DESCRIPTION:Pinksteren is het meest enthousiaste feest van de kerk. Het gaa
 t over in vuur en vlam staan\,  een frisse wind door je haren\,  je leven\,
   de kerk. Het gaat over moed om uit je comfortzone te komen en over verras
 t worden over wat een ander te zeggen heeft.Het wordt dus[..]\nhttps://stad
 sdominee.nl/events/pinksteren-2/
URL:https://stadsdominee.nl/events/pinksteren-2/
END:VEVENT
END:VCALENDAR