BEGIN:VCALENDAR
VERSION:2.0
PRODID:-//eventon.com NONSGML v1.0//EN
CALSCALE:GREGORIAN
METHOD:PUBLISH
BEGIN:VEVENT
UID:69eaf2b69ac0e
DTSTAMP:20260424T043358Z
DTSTART:20230604T160000Z
DTEND:20230604T170000Z
LOCATION:Sint Joriskerk Hof 1
SUMMARY:Aarden in geloof
DESCRIPTION:De Protestantse Gemeente Amersfoort bestaat uit tien wijkgemeen
 tes en een stadsdominee. Elke maand vergaderen ze samen in de Algemene Kerk
 enraad. Eens per jaar vieren ze samen &#8211; die frequentie zou natuurlijk
  andersom moeten zijn \,  maar des te meer reden om die ene keer niet te m
 issen!We komen samen in de[..]\nhttps://stadsdominee.nl/events/aarden-in-ge
 loof/
URL:https://stadsdominee.nl/events/aarden-in-geloof/
END:VEVENT
END:VCALENDAR