BEGIN:VCALENDAR
VERSION:2.0
PRODID:-//eventon.com NONSGML v1.0//EN
CALSCALE:GREGORIAN
METHOD:PUBLISH
BEGIN:VEVENT
UID:69eb17b065365
DTSTAMP:20260424T071144Z
DTSTART:20230610T140000Z
DTEND:20230610T150000Z
LOCATION:Amersfoortse Zwaan
SUMMARY:Wat doet armoede met mensen?
DESCRIPTION:In het kader van de actie Vakantiegeld Delen organiseren we een
  uur met achtergronden: wat doet armoede met mensen? Jasper van den Bovenka
 mp laat zien dat arm zijn veel meer betekent dan te weinig geld hebben. Arm
 oede beïnvloedt wat je denkt\,  wat je doet en hoe je je voelt. In[..]\nht
 tps://stadsdominee.nl/events/wat-doet-armoede-met-mensen/
URL:https://stadsdominee.nl/events/wat-doet-armoede-met-mensen/
END:VEVENT
END:VCALENDAR