BEGIN:VCALENDAR
VERSION:2.0
PRODID:-//eventon.com NONSGML v1.0//EN
CALSCALE:GREGORIAN
METHOD:PUBLISH
BEGIN:VEVENT
UID:69eb1a00ac120
DTSTAMP:20260424T072136Z
DTSTART:20230528T083000Z
DTEND:20230528T093000Z
LOCATION:Amersfoortse Zwaan
SUMMARY:Pinksteren
DESCRIPTION:Een feestelijke viering in de Amersfoortse Zwaan. Pinksteren ga
 at over moed en inspiratie en waar je God kunt ervaren in je leven. Passiev
 ol rood is de kleur die bij deze zondag hoort. Diederiek van Loo gaat voor.
  Andries van Rossem\,  componist en organist\,  zal dit keer de wind in de[
 ..]\nhttps://stadsdominee.nl/events/pinksteren/
URL:https://stadsdominee.nl/events/pinksteren/
END:VEVENT
END:VCALENDAR