BEGIN:VCALENDAR
VERSION:2.0
PRODID:-//eventon.com NONSGML v1.0//EN
CALSCALE:GREGORIAN
METHOD:PUBLISH
BEGIN:VEVENT
UID:69eb2c349967c
DTSTAMP:20260424T083916Z
DTSTART:20230429T140000Z
DTEND:20230429T153000Z
LOCATION:Sint Franciscus Xaveriuskerk 't Zand 29
SUMMARY:'Die mij droeg'
DESCRIPTION:Huub Oosterhuis\,  de dichter en theoloog die de Rooms Katholie
 ke spiritualiteit van de twintigste eeuw enorm beïnvloedde is gestorven op
  Pasen\,  9 april 2023. De betekenis van Huub Oosterhuis overstijgt de kerk
 elijke hokjes en muren. Hoe kunnen wij zijn enorme nalatenschap aan liedere
 n beter eren dan door samen te zingen?[..]\nhttps://stadsdominee.nl/events/
 die-mij-droeg/
URL:https://stadsdominee.nl/events/die-mij-droeg/
END:VEVENT
END:VCALENDAR