BEGIN:VCALENDAR
VERSION:2.0
PRODID:-//eventon.com NONSGML v1.0//EN
CALSCALE:GREGORIAN
METHOD:PUBLISH
BEGIN:VEVENT
UID:69e521bf0649a
DTSTAMP:20260419T184103Z
DTSTART:20230407T130000Z
DTEND:20230407T140000Z
LOCATION:Amersfoortse Zwaan
SUMMARY:kleine meezing Matthäuspassion
DESCRIPTION:Na drie jaar organiseert de Amersfoortse Zwaan weer een mini-me
 ezing-Mattheus op Goede Vrijdag\,  waarbij alle koralen uit Bachs meesterwe
 rk vierstemmig worden gezongen. Wie Bachs weergaloze muziek graag zingt\,  
 is van harte uitgenodigd. Zingend ervaar je de intensiteit van het verhaal 
 nog meer. Het contrast tussen de drukke winkelstraat en de[..]\nhttps://sta
 dsdominee.nl/events/kleine-meezing-matthauspassion/
URL:https://stadsdominee.nl/events/kleine-meezing-matthauspassion/
END:VEVENT
END:VCALENDAR