BEGIN:VCALENDAR
VERSION:2.0
PRODID:-//eventon.com NONSGML v1.0//EN
CALSCALE:GREGORIAN
METHOD:PUBLISH
BEGIN:VEVENT
UID:69e50bea1e59a
DTSTAMP:20260419T170754Z
DTSTART:20230222T183000Z
DTEND:20230222T200000Z
LOCATION:Sint Joriskerk Hof 1
SUMMARY:Aswoensdag viering
DESCRIPTION:Na het carnavalsweekend komt Aswoensdag. Welkom bij de Aswoensd
 agviering. De weg naar Pasen begint met dit oude ritueel van inkeer. Iedere
 en is welkom in de Sint Joriskerk\,  waar vijf kerken samen deze viering vo
 orbereiden. Veertig dagen tellen we naar Pasen toe. Een lange periode van v
 oorbereiding\,  van inkeer\,  van extra[..]\nhttps://stadsdominee.nl/events
 /aswoensdag-viering/
URL:https://stadsdominee.nl/events/aswoensdag-viering/
END:VEVENT
END:VCALENDAR