BEGIN:VCALENDAR
VERSION:2.0
PRODID:-//eventon.com NONSGML v1.0//EN
CALSCALE:GREGORIAN
METHOD:PUBLISH
BEGIN:VEVENT
UID:69e4f41709e3f
DTSTAMP:20260419T152615Z
DTSTART:20230128T150000Z
DTEND:20230128T160000Z
LOCATION:Amersfoortse Zwaan
SUMMARY:Viering
DESCRIPTION:&nbsp;Viering rondom Maria Magdalena. In de kerk is dit weekend
  een tentoonstelling van een kunstenaarscollectief dat zich intensief heeft
  beziggehouden met Maria Magdalena. We sluiten daar bij aan. Wie zelfstandi
 g muziek kan instuderen is welkom om mee te zingen met het Zwaankoor olv Ce
 es-Willem van Vliet. Geef je op via[..]\nhttps://stadsdominee.nl/events/vie
 ring-4/
URL:https://stadsdominee.nl/events/viering-4/
END:VEVENT
END:VCALENDAR