BEGIN:VCALENDAR
VERSION:2.0
PRODID:-//eventon.com NONSGML v1.0//EN
CALSCALE:GREGORIAN
METHOD:PUBLISH
BEGIN:VEVENT
UID:69e4ddfedc5cc
DTSTAMP:20260419T135158Z
DTSTART:20230121T150000Z
DTEND:20230121T160000Z
LOCATION:Amersfoortse Zwaan
SUMMARY:Muziek na de Markt
DESCRIPTION:Muziek na de Markt met een programma van Spaanse muziek. Ook hi
 er is ‘eenheid’ het thema. In het zuiden van Spanje leefden Christenen\
 ,  Joden en Moslims samen in de tijd van Columbus en namen elementen uit el
 kaars muzikale traditie over. Nelleke Nieuwboer – zang en Dingeman Coumou
  – gitaar en[..]\nhttps://stadsdominee.nl/events/muziek-na-de-markt/
URL:https://stadsdominee.nl/events/muziek-na-de-markt/
END:VEVENT
END:VCALENDAR