BEGIN:VCALENDAR
VERSION:2.0
PRODID:-//eventon.com NONSGML v1.0//EN
CALSCALE:GREGORIAN
METHOD:PUBLISH
BEGIN:VEVENT
UID:69e4c3d2e8981
DTSTAMP:20260419T120018Z
DTSTART:20230115T090000Z
DTEND:20230115T101500Z
LOCATION:Oud Katholieke Parochie 't Zand 13
SUMMARY:Viering gebedsweek voor eenheid
DESCRIPTION:Zondag 15 januari is iedereen om 10 uur welkom in de Oud-Kathol
 ieke Kerk Sint-Georgius op het Zand voor een viering in het kader van de Ge
 bedsweek voor de Eenheid. Voorgangers zijn pastoor Rudolf Scheltinga en dom
 inee Diederiek van Loo\nhttps://stadsdominee.nl/events/viering-gebedsweek-v
 oor-eenheid/
URL:https://stadsdominee.nl/events/viering-gebedsweek-voor-eenheid/
END:VEVENT
END:VCALENDAR