BEGIN:VCALENDAR
VERSION:2.0
PRODID:-//eventon.com NONSGML v1.0//EN
CALSCALE:GREGORIAN
METHOD:PUBLISH
BEGIN:VEVENT
UID:69e52807ebf42
DTSTAMP:20260419T190751Z
DTSTART:20230107T150000Z
DTEND:20230107T160000Z
LOCATION:Amersfoortse Zwaan
SUMMARY:Nieuwjaarsbijeenkomst
DESCRIPTION:Op zaterdag 7 januari 2023\,  16-17 uur\,  beginnen we het nieu
 we jaar in de Zwaan met een hoopvol verhaal. Kees Bregman (predikant in Soe
 st en docent pastoraat) legt het Bijbelse ideaal van een rechtvaardigheid n
 aast het thema van de bestseller van zijn zoon Rutger Bregman: ‘De meeste
  mensen deugen’. De[..]\nhttps://stadsdominee.nl/events/nieuwjaarsbijeenk
 omst/
URL:https://stadsdominee.nl/events/nieuwjaarsbijeenkomst/
END:VEVENT
END:VCALENDAR