BEGIN:VCALENDAR
VERSION:2.0
PRODID:-//eventon.com NONSGML v1.0//EN
CALSCALE:GREGORIAN
METHOD:PUBLISH
BEGIN:VEVENT
UID:69e4e518613bf
DTSTAMP:20260419T142216Z
DTSTART:20230228T130000Z
DTEND:20230228T150000Z
LOCATION:
SUMMARY:"Er is eens..."
DESCRIPTION:In het nieuwe jaar start ook weer een nieuwe serie &#8220;Er is
  eens&#8230;&#8221; Bijbellezen anno nu. Open\,  zorgvuldig\,  ondogmatisch
  lezen. Dat is wat een groepje mensen van allerlei leeftijden met veel plez
 ier doet\,  onder leiding van theoloog Diederiek van Loo.Voor miljoenen men
 sen is de Bijbel hun geloofsboek\,  voor iedereen is[..]\nhttps://stadsdomi
 nee.nl/events/er-is-eens-3/
URL:https://stadsdominee.nl/events/er-is-eens-3/
END:VEVENT
END:VCALENDAR