BEGIN:VCALENDAR
VERSION:2.0
PRODID:-//eventon.com NONSGML v1.0//EN
CALSCALE:GREGORIAN
METHOD:PUBLISH
BEGIN:VEVENT
UID:69e74aa9786c9
DTSTAMP:20260421T100009Z
DTSTART:20221210T150000Z
DTEND:20221210T160000Z
LOCATION:Amersfoortse Zwaan
SUMMARY:"Zie een maagd zal zwanger worden"
DESCRIPTION:We lezen dit uur\,  onder leiding van Diederiek van Loo\,  Bijb
 elteksten voor de periode van Advent met elkaar: over Maria en de geboorte 
 van Jezus. Wat in een kerkdienst niet kan\,  gaat nu juist heel goed: vrage
 n stellen\,  met elkaar van gedachte wisselen. Zo kunnen we doorpraten over
  het thema[..]\nhttps://stadsdominee.nl/events/zie-een-maagd-zal-zwanger-wo
 rden/
URL:https://stadsdominee.nl/events/zie-een-maagd-zal-zwanger-worden/
END:VEVENT
END:VCALENDAR