BEGIN:VCALENDAR
VERSION:2.0
PRODID:-//eventon.com NONSGML v1.0//EN
CALSCALE:GREGORIAN
METHOD:PUBLISH
BEGIN:VEVENT
UID:69e4c020d740a
DTSTAMP:20260419T114432Z
DTSTART:20221111T190000Z
DTEND:20221111T220000Z
LOCATION:Sint Joriskerk Hof 1
SUMMARY:Nachtlicht!
DESCRIPTION:Nachtlicht is een rustpunt op je vrijdagavond\,  een plek om lo
 s te laten en op te laden. Nachtlicht is er voor iedereen en je kunt binnen
 lopen en weggaan op je eigen tijd. Blijf maar even of blijf een uur lang &#
 8211; alles mag. Als je nieuwsgierig bent hoe de Joriskerk[..]\nhttps://sta
 dsdominee.nl/events/nachtlicht-4/
URL:https://stadsdominee.nl/events/nachtlicht-4/
END:VEVENT
END:VCALENDAR