BEGIN:VCALENDAR
VERSION:2.0
PRODID:-//eventon.com NONSGML v1.0//EN
CALSCALE:GREGORIAN
METHOD:PUBLISH
BEGIN:VEVENT
UID:69e4d54551dd2
DTSTAMP:20260419T131445Z
DTSTART:20220129T093000Z
DTEND:20220129T113000Z
LOCATION:
SUMMARY:Lezing Erik Borgman
DESCRIPTION:Erik Borgman is professor publieke theologie en een meeslepend 
 spreker. Hij geeft zaterdag 29 januari een lezing bij het Spiritueel Cultur
 eel Centrum in de Sint Franciscus Xaveriuskerk over de toekomst van de kerk
  (n.a.v. zijn boek &#8220;Alle dingen nieuw &#8211; een theologische visie 
 voor de 21ste eeuw&#8221;) en ik mag[..]\nhttps://stadsdominee.nl/events/le
 zing-erik-borgman/
URL:https://stadsdominee.nl/events/lezing-erik-borgman/
END:VEVENT
END:VCALENDAR