BEGIN:VCALENDAR
VERSION:2.0
PRODID:-//eventon.com NONSGML v1.0//EN
CALSCALE:GREGORIAN
METHOD:PUBLISH
BEGIN:VEVENT
UID:69e5e1a1cae66
DTSTAMP:20260420T081945Z
DTSTART:20220109T090000Z
DTEND:20220109T100000Z
LOCATION:
SUMMARY:online dienst in de Johanneskerk
DESCRIPTION:Deze zondag ben ik te gast als voorganger in de Johanneskerk. D
 at is een mooie\,  moderne kerk op de Westsingel\,  schuintegenover het sta
 dhuis. De gemeente is een fusie van Remonstrants\,  Doopsgezind en Vrijzinn
 ig. Het gaat in de viering over de doop van Jezus zelf\,  in de Jordaan. Al
 le mensen (of[..]\nhttps://stadsdominee.nl/events/online-dienst-in-de-johan
 neskerk/
URL:https://stadsdominee.nl/events/online-dienst-in-de-johanneskerk/
END:VEVENT
END:VCALENDAR