BEGIN:VCALENDAR
VERSION:2.0
PRODID:-//eventon.com NONSGML v1.0//EN
CALSCALE:GREGORIAN
METHOD:PUBLISH
BEGIN:VEVENT
UID:69e739d836e3f
DTSTAMP:20260421T084824Z
DTSTART:20211224T203000Z
DTEND:20211224T213000Z
LOCATION:
SUMMARY:Kerst in de nacht
DESCRIPTION:Kerst zo mooi als een besneeuwd Betlehem\,  zo stil en ingetoge
 n feestelijk als een huis waar zojuist een kindje is geboren.Carminis Conso
 rt speelt en zingt oude kerstmuziek uit verschillende landen\,  we lezen he
 t kerstevangelie en Diederiek van Loo houdt een overweging. Carminis Consor
 t bestaat uit Ineke Baksteen (sopraan)\,  Margareth Iping[..]\nhttps://stad
 sdominee.nl/events/kerst-in-de-nacht/
URL:https://stadsdominee.nl/events/kerst-in-de-nacht/
END:VEVENT
END:VCALENDAR