BEGIN:VCALENDAR
VERSION:2.0
PRODID:-//eventon.com NONSGML v1.0//EN
CALSCALE:GREGORIAN
METHOD:PUBLISH
BEGIN:VEVENT
UID:69e749c89c301
DTSTAMP:20260421T095624Z
DTSTART:20211127T150000Z
DTEND:20211127T160000Z
LOCATION:
SUMMARY:Adventsviering @ de Amersfoortse Zwaan
DESCRIPTION:Met advent richten we ons naar kerstmis\,  het licht dat we nod
 ig hebben in het donker van deze maanden en het donker van de wereld. Voor
 ganger Diederiek van Loo. Deze viering is online te volgen via http://www.
 amersfoortsezwaan.nl/kerkradio. U kunt tegelijkertijd (live) meeluisteren o
 f op een later moment terugluisteren.  De mooiste kerkmuziek is[..]\nhttps
 ://stadsdominee.nl/events/adventsviering-de-amersfoortse-zwaan/
URL:https://stadsdominee.nl/events/adventsviering-de-amersfoortse-zwaan/
END:VEVENT
END:VCALENDAR