BEGIN:VCALENDAR
VERSION:2.0
PRODID:-//eventon.com NONSGML v1.0//EN
CALSCALE:GREGORIAN
METHOD:PUBLISH
BEGIN:VEVENT
UID:69e75ef068357
DTSTAMP:20260421T112640Z
DTSTART:20220810T070000Z
DTEND:20220810T073000Z
LOCATION:Sint Joriskerk Hof 1
SUMMARY:Stiltemeditatie
DESCRIPTION:Elke woensdagochtend kun je mee doen. Iedereen is welkom en ied
 ereen kan het: zitten en stil zijn. Waar de Paaskaars brandt zoekt ieder ee
 n eigen plek. Je kunt gaan zitten op een van de stoelen die klaarstaan\,  o
 f op een eigen krukje of kleedje of kussen. Net wat je zelf[..]\nhttps://st
 adsdominee.nl/events/stiltemeditatie-2/
URL:https://stadsdominee.nl/events/stiltemeditatie-2/
END:VEVENT
END:VCALENDAR