BEGIN:VCALENDAR
VERSION:2.0
PRODID:-//eventon.com NONSGML v1.0//EN
CALSCALE:GREGORIAN
METHOD:PUBLISH
BEGIN:VEVENT
UID:69e629972b28b
DTSTAMP:20260420T132647Z
DTSTART:20211001T180000Z
DTEND:20211001T210000Z
LOCATION:Sint Joriskerk Hof 1
SUMMARY:Nachtlicht!
DESCRIPTION:Midden in de stad\,  naast film en café\,  is er Nachtlicht. E
 en rustpunt op je vrijdagavond\,  een plek om los te laten en op te laden. 
 Als je nieuwsgierig bent hoe de Joriskerk er uitziet bij kaarslicht – wee
 s welkom. Of als je wilt luisteren naar de muziek van piano\, [..]\nhttps:/
 /stadsdominee.nl/events/nachtlicht-2/
URL:https://stadsdominee.nl/events/nachtlicht-2/
END:VEVENT
END:VCALENDAR