BEGIN:VCALENDAR
VERSION:2.0
PRODID:-//eventon.com NONSGML v1.0//EN
CALSCALE:GREGORIAN
METHOD:PUBLISH
BEGIN:VEVENT
UID:69e74f16a8b0e
DTSTAMP:20260421T101902Z
DTSTART:20210424T140000Z
DTEND:20210424T150000Z
LOCATION:Amersfoortse Zwaan
SUMMARY:Viering
DESCRIPTION:Een uur voor je ziel! Want het is zo fijn om even uit je eigen 
 cirkelgedachten getrokken te worden. Er is in de kerk ruimte voor ieders li
 cht en donker\,  voor stilte en lofzang. We bidden de psalmen\,  lezen het 
 evangelie en delen brood en wijn. Met fijne muziek om[..]\nhttps://stadsdom
 inee.nl/events/viering/
URL:https://stadsdominee.nl/events/viering/
END:VEVENT
END:VCALENDAR